BEGIN:VCALENDAR
VERSION:2.0
PRODID:-//hacksw/handcal//NONSGML v1.0//EN
BEGIN:VEVENT
SUMMARY:Meeting
UID:7e7b6178-43eb-4773-86fe-ea8a72e9394c
DTSTART:20260330T080000Z
DTEND:20260330T120000Z
LOCATION:Localisation   
CATEGORIES:Sportif
STATUS:
DESCRIPTION:<p>Le meeting organise par le club aura lieu au stade
 municipal.<br>Quatre de nos athletes seront en lice dans le 100m et
 le 200m.</p><p>Les prix seront remis en soiree.</p>
URL;VALUE=URI:https://essaiuamontreuil.sportsregions.fr/evenements/2026/03/30/meeting-2435587
END:VEVENT
END:VCALENDAR
